Workbook

Sheet ДОХОДЫ
F3: Приложения
F4: к решению Думы Юсьвинского муниципального
F5: округа Пермского края
F6: от 16.09.2026 № 209
A7: Отчет об исполнении бюджета Юсьвинского муниципального округа Пермского края по доходам за 1 полугодие 2026 года
A9: Код бюджетной классификации Российской Федерации | B9: Наименование кода поступлений в бюджет, группы, подгруппы, статьи, подстатьи, элемента, подвида доходов, классификации операций сектора государственного управления | C9: Утверждено на 2026 год | D9: Уточненный план на 2026 год | E9: Утверждено на 1 полугодие 2026 года | F9: Исполнено на 01.07.2026 года | G9: % исполнения от годовых назначений | H9: % исполнения от квартальных назначений
A12: 1 | B12: 2 | C12: 3 | D12: 3 | E12: 4 | F12: 5 | G12: 6 | H12: 7
A13: 1 00 00 000 00 0000 000 | B13: НАЛОГОВЫЕ И НЕНАЛОГОВЫЕ ДОХОДЫ | C13: =C14+C55 -> 122555.71 | D13: =D14+D55 -> 122555.71 | E13: =E14+E55 -> 56020.413 | F13: =F14+F55 -> 56457.617 | G13: =F13/D13*100 -> 46.066899 | H13: =F13/E13*100 -> 100.78044
B14: Налоговые доходы | C14: =C15+C24+C32+C41+C50 -> 93750 | D14: =D15+D24+D32+D41+D50 -> 93750 | E14: =E15+E24+E32+E41+E50 -> 41475.5 | F14: =F15+F24+F32+F41+F50 -> 41826.241 | G14: =F14/D14*100 -> 44.614657 | H14: =F14/E14*100 -> 100.84566
A15: 1 01 00 000 00 0000 000 | B15: НАЛОГИ НА ПРИБЫЛЬ, ДОХОДЫ | C15: =C16 -> 52394 | D15: =D16 -> 52394 | E15: =E16 -> 23246 | F15: =F16 -> 23246.817 | G15: =F15/D15*100 -> 44.369236 | H15: =F15/E15*100 -> 100.00352
A16: 1 01 02 000 01 0000 110 | B16: Налог на доходы физических лиц | C16: =C17+C18+C19+C20+C22+C21+C23 -> 52394 | D16: =D17+D18+D19+D20+D22+D21+D23 -> 52394 | E16: =E17+E18+E19+E20+E22+E21+E23 -> 23246 | F16: =F17+F18+F19+F20+F22+F21+F23 -> 23246.817 | G16: =F16/D16*100 -> 44.369236 | H16: =F16/E16*100 -> 100.00352
A17: 1 01 02 010 01 0000 110 | B17: Налог на доходы физических лиц с доходов, источником которых является налоговый агент, за исключением доходов, в отношении которых исчисление и уплата налога осуществляются в соответствии со статьями 227, 227.1 и 228 Налогового кодекса Российской Федерации | C17: 45843 | D17: 45843 | E17: 20062 | F17: 20050.384 | G17: =F17/D17*100 -> 43.737069 | H17: =F17/E17*100 -> 99.942101
A18: 1 01 02 020 01 0000 110 | B18: Налог на доходы физических лиц с доходов, полученных от осуществления деятельности физическими лицами, зарегистрированными в качестве индивидуальных предпринимателей, нотариусов, занимающихся частной практикой, адвокатов, учредивших адвокатские кабинеты, и других лиц, занимающихся частной практикой в соответствии со статьей 227 Налогового кодекса Российской Федерации | C18: 40 | D18: 40 | E18: 17 | F18: 16.93754 | G18: =F18/D18*100 -> 42.34385 | H18: =F18/E18*100 -> 99.632588
A19: 1 01 02 030 01 0000 110 | B19: Налог на доходы физических лиц с доходов, полученных физическими лицами в соответствии со статьей 228 Налогового кодекса Российской Федерации | C19: 443 | D19: 443 | E19: 31 | F19: 30.94196 | G19: =F19/D19*100 -> 6.9846411 | H19: =F19/E19*100 -> 99.812774
A20: 1 01 02 040 01 0000 110 | B20: Налог на доходы физических лиц в виде фиксированных авансовых платежей с доходов, полученных физическими лицами, являющимися иностранными гражданами, осуществляющими трудовую деятельность по найму на основании патента в соответствии со статьей 227.1 Налогового кодекса Российской Федерации | C20: 46 | D20: 46 | E20: 0 | F20: 0 | G20: =F20/D20*100 -> 0 | H20: 0
A21: 1 01 02 080 01 0000 110 | B21: Налог на доходы физических лиц в части суммы налога, превышающей 650 000 рублей, относящейся к части налоговой базы, превышающей 5 000 000 рублей (за исключением налога на доходы физических лиц с сумм прибыли контролируемой иностранной компании, в том числе фиксированной прибыли контролируемой иностранной компании, а также налога на доходы физических лиц в отношении доходов от долевого участия в организации, полученных физическим лицом - налоговым резидентом Российской Федерации в виде дивидендов) | C21: 0 | D21: 0 | E21: 0 | F21: 14.93082 | G21: 0 | H21: 0
A22: 1 01 02 130 01 0000 110 | B22: Налог на доходы физических лиц в отношении доходов от долевого участия в организации, полученных физическим лицом - налоговым резидентом Российской Федерации в виде дивидендов (в части суммы налога, не превышающей 650 000 рублей) (сумма платежа (перерасчеты, недоимка и задолженность по соответствующему платежу, в том числе по отмененному) | C22: 9 | D22: 9 | E22: 0 | F22: 0.0003 | G22: =F22/D22*100 -> 0.0033333333 | H22: 0
A23: 1 01 02 210 01 0000 110 | B23: Налог на доходы физических лиц в части суммы налога, относящейся к налоговой базе, указанной в пункте 6.2 статьи 210 Налогового кодекса Российской Федерации, не превышающей 5 миллионов рублей | C23: 6013 | D23: 6013 | E23: 3136 | F23: 3133.6224 | G23: =F23/D23*100 -> 52.114127 | H23: =F23/E23*100 -> 99.924185
A24: 1 03 00 000 00 0000 000 | B24: НАЛОГИ НА ТОВАРЫ (РАБОТЫ, УСЛУГИ), РЕАЛИЗУЕМЫЕ НА ТЕРРИТОРИИ РОССИЙСКОЙ ФЕДЕРАЦИИ | C24: =C25+C30 -> 27711.7 | D24: =D25+D30 -> 27711.7 | E24: =E25+E30 -> 12295 | F24: =F25+F30 -> 12294.906 | G24: =F24/D24*100 -> 44.367203 | H24: =F24/E24*100 -> 99.999237
A25: 1 03 02 000 01 0000 110 | B25: Акцизы по подакцизным товарам (продукции), производимым на территории Российской Федерации | C25: =C26+C27+C28+C29 -> 27676.7 | D25: =D26+D27+D28+D29 -> 27676.7 | E25: =E26+E27+E28+E29 -> 12290 | F25: =F26+F27+F28+F29 -> 12290.395 | G25: =F25/D25*100 -> 44.407011 | H25: =F25/E25*100 -> 100.00322
A26: 1 03 02 231 01 0000 110 | B26: Доходы от уплаты акцизов на дизельное топливо, подлежащие распределению между бюджетами субъектов Российской Федерации и местными бюджетами с учетом установленных дифференцированных нормативов отчислений в местные бюджеты (по нормативам, установленным Федеральным законом о федеральном бюджете в целях формирования дорожных фондов субъектов Российской Федерации) | C26: 14482.4 | D26: 14482.4 | E26: 6203 | F26: 6203.4185 | G26: =F26/D26*100 -> 42.834188 | H26: =F26/E26*100 -> 100.00675
A27: 1 03 02 241 01 0000 110 | B27: Доходы от уплаты акцизов на моторные масла для дизельных и (или) карбюраторных (инжекторных) двигателей, подлежащие распределению между бюджетами субъектов Российской Федерации и местными бюджетами с учетом установленных дифференцированных нормативов отчислений в местные бюджеты (по нормативам, установленным Федеральным законом о федеральном бюджете в целях формирования дорожных фондов субъектов Российской Федерации) | C27: 70.7 | D27: 70.7 | E27: 38.8 | F27: 38.76273 | G27: =F27/D27*100 -> 54.827058 | H27: =F27/E27*100 -> 99.903943
A28: 1 03 02 251 01 0000 110 | B28: Доходы от уплаты акцизов на автомобильный бензин, подлежащие распределению между бюджетами субъектов Российской Федерации и местными бюджетами с учетом установленных дифференцированных нормативов отчислений в местные бюджеты (по нормативам, установленным Федеральным законом о федеральном бюджете в целях формирования дорожных фондов субъектов Российской Федерации) | C28: 14008.4 | D28: 14008.4 | E28: 6740.7 | F28: 6740.714 | G28: =F28/D28*100 -> 48.119086 | H28: =F28/E28*100 -> 100.00021
A29: 1 03 02 261 01 0000 110 | B29: Доходы от уплаты акцизов на прямогонный бензин, подлежащие распределению между бюджетами субъектов Российской Федерации и местными бюджетами с учетом установленных дифференцированных нормативов отчислений в местные бюджеты (по нормативам, установленным Федеральным законом о федеральном бюджете в целях формирования дорожных фондов субъектов Российской Федерации) | C29: -884.8 | D29: -884.8 | E29: -692.5 | F29: -692.50008 | G29: =F29/D29*100 -> 78.266284 | H29: =F29/E29*100 -> 100.00001
A30: 1 03 03 000 01 0000 110 | B30: Туристический налог | C30: =C31 -> 35 | D30: =D31 -> 35 | E30: =E31 -> 5 | F30: =F31 -> 4.511 | G30: =F30/D30*100 -> 12.888571 | H30: =F30/E30*100 -> 90.22
A31: 1 03 03 000 01 0000 110 | B31: Туристический налог | C31: 35 | D31: 35 | E31: 5 | F31: 4.511 | G31: =F31/D31*100 -> 12.888571 | H31: =F31/E31*100 -> 90.22
A32: 1 05 00 000 00 0000 000 | B32: НАЛОГИ НА СОВОКУПНЫЙ ДОХОД | C32: =C37+C39+C33+C36 -> 2552 | D32: =D37+D39+D33+D36 -> 2552 | E32: =E37+E39+E33+E36 -> 1854.8 | F32: =F37+F39+F33+F36 -> 2205.4467 | G32: =F32/D32*100 -> 86.420324 | H32: =F32/E32*100 -> 118.90482
A33: 1 05 01 000 01 0000 110 | B33: Налог, взимаемый в связи с применением упрощенной системы налогообложения | C33: =C34+C35 -> 1403 | D33: =D34+D35 -> 1403 | E33: =E34+E35 -> 912 | F33: =F34+F35 -> 911.94884 | G33: =F33/D33*100 -> 64.999917 | H33: =F33/E33*100 -> 99.99439
A34: 1 05 01 011 01 0000 110 | B34: Налог, взимаемый с налогоплательщиков, выбравших в качестве объекта налогообложения доходы | C34: 891 | D34: 891 | E34: 567 | F34: 566.61273 | G34: =F34/D34*100 -> 63.592899 | H34: =F34/E34*100 -> 99.931698
A35: 1 05 01 021 01 0000 110 | B35: Налог, взимаемый с налогоплательщиков, выбравших в качестве объекта налогообложения доходы, уменьшенные на величину расходов | C35: 512 | D35: 512 | E35: 345 | F35: 345.33611 | G35: =F35/D35*100 -> 67.448459 | H35: =F35/E35*100 -> 100.09742
A36: 1 05 02 010 02 0000 110 | B36: Единый налог на вмененный доход для отдельных видов деятельности | C36: 0 | D36: 0 | E36: 0 | F36: 0 | G36: 0 | H36: 0
A37: 1 05 03 000 01 0000 110 | B37: Единый сельскохозяйственный налог | C37: =C38 -> 215 | D37: =D38 -> 215 | E37: =E38 -> 215 | F37: =F38 -> 565.71995 | G37: =F37/D37*100 -> 263.12556 | H37: =F37/E37*100 -> 263.12556
A38: 1 05 03 010 01 0000 110 | B38: Единый сельскохозяйственный налог | C38: 215 | D38: 215 | E38: 215 | F38: 565.71995 | G38: =F38/D38*100 -> 263.12556 | H38: =F38/E38*100 -> 263.12556
A39: 1 05 04 000 02 0000 110 | B39: Налог, взимаемый в связи с применением патентной системы налогообложения | C39: =C40 -> 934 | D39: =D40 -> 934 | E39: =E40 -> 727.8 | F39: =F40 -> 727.77787 | G39: =F39/D39*100 -> 77.920543 | H39: =F39/E39*100 -> 99.996959
A40: 1 05 04 060 02 0000 110 | B40: Налог, взимаемый в связи с применением патентной системы налогообложения, зачисляемый в бюджеты муниципальных округов | C40: 934 | D40: 934 | E40: 727.8 | F40: 727.77787 | G40: =F40/D40*100 -> 77.920543 | H40: =F40/E40*100 -> 99.996959
A41: 1 06 00 000 00 0000 000 | B41: НАЛОГИ НА ИМУЩЕСТВО | C41: =C44+C43+C47 -> 6107 | D41: =D44+D43+D47 -> 6107 | E41: =E44+E43+E47 -> 1531 | F41: =F44+F43+F47 -> 1530.3963 | G41: =F41/D41*100 -> 25.059707 | H41: =F41/E41*100 -> 99.960569
A42: ﻿1 06 01000 00 0000 110 | B42: ﻿Налог на имущество физических лиц | C42: =C43 -> 1825 | D42: =D43 -> 1825 | E42: =E43 -> 105 | F42: =F43 -> 105.15849 | G42: =F42/D42*100 -> 5.762109 | H42: =F42/E42*100 -> 100.15094
A43: 1 06 01020 14 0000 110 | B43: Налог на имущество физических лиц, взимаемый по ставкам, применяемым к объектам налогообложения, расположенным в границах муниципальных округов | C43: 1825 | D43: 1825 | E43: 105 | F43: 105.15849 | G43: =F43/D43*100 -> 5.762109 | H43: =F43/E43*100 -> 100.15094
A44: 1 06 04 000 02 0000 110 | B44: Транспортный налог | C44: =C45+C46 -> 0 | D44: =D45+D46 -> 0 | E44: =E45+E46 -> 0 | F44: =F45+F46 -> 0 | G44: =F44/D44*100 -> #DIV/0! | H44: =F44/E44*100 -> #DIV/0!
A45: 1 06 04 011 02 0000 110 | B45: Транспортный налог с организаций | C45: 0 | D45: 0 | E45: 0 | F45: 0 | G45: =F45/D45*100 -> #DIV/0! | H45: =F45/E45*100 -> #DIV/0!
...

Sheet расходы
A1: Отчет об исполнении бюджета Юсьвинского муниципального округа Пермского края по расходам за 1 полугодие 2026 года
K2: (тыс.руб.)
A3: Ведомство | B3: Раздел, подраздел | C3: Целевая статья | D3: Вид расходов | E3: Направление расходов (отрасль) | F3: Утверждено на 2026 год | G3: Уточненный план на 2026 год | H3: Утверждено на 1 полугодие 2026 года | I3: Исполнено на 01.07.2026 г. | J3: % исполнения от годовых назначений | K3: % исполнения от квартальных назначений
A4: 601 | E4: Администрация Юсьвинского муниципального округа Пермского края | F4: =F5+F106+F115+F166+F296+F425+F441+F419+F496 -> 689234.56 | G4: =G5+G106+G115+G166+G296+G425+G441+G419+G496 -> 771040.79 | H4: =H5+H106+H115+H166+H296+H425+H441+H419+H496 -> 260740.32 | I4: =I5+I106+I115+I166+I296+I425+I441+I419+I496 -> 259731.14 | J4: =I4/G4*100 -> 33.685784 | K4: =I4/H4*100 -> 99.612956
B5: 0100 | E5: Общегосударственные вопросы | F5: =F6+F13+F50+F57 -> 125647.66 | G5: =G6+G13+G50+G57 -> 125556.15 | H5: =H6+H13+H50+H57 -> 53358.631 | I5: =I6+I13+I50+I57 -> 52629.265 | J5: =I5/G5*100 -> 41.916914 | K5: =I5/H5*100 -> 98.633087
B6: 0102 | E6: Функционирование высшего должностного лица субъекта Российской Федерации и муниципального образования | F6: =F7 -> 4063.9 | G6: =G7 -> 4063.9 | H6: =H7 -> 1600 | I6: =I7 -> 1521.8704 | J6: =I6/G6*100 -> 37.448519 | K6: =I6/H6*100 -> 95.116897
C7: 00 0 00 00000 | E7: Муниципальные программы Юсьвинского муниципального округа Пермского края | F7: =F8 -> 4063.9 | G7: =G8 -> 4063.9 | H7: =H8 -> 1600 | I7: =I8 -> 1521.8704 | J7: =I7/G7*100 -> 37.448519 | K7: =I7/H7*100 -> 95.116897
C8: 01 0 00 00000 | E8: Муниципальная программа "Муниципальное управление в Юсьвинском муниципальном округе Пермского края" | F8: =F9 -> 4063.9 | G8: =G9 -> 4063.9 | H8: =H9 -> 1600 | I8: =I9 -> 1521.8704 | J8: =I8/G8*100 -> 37.448519 | K8: =I8/H8*100 -> 95.116897
C9: 01 2 00 00000 | E9: Подпрограмма "Организация деятельности по реализации вопросов местного значения Юсьвинского муниципального округа Пермского края" | F9: =F10 -> 4063.9 | G9: =G10 -> 4063.9 | H9: =H10 -> 1600 | I9: =I10 -> 1521.8704 | J9: =I9/G9*100 -> 37.448519 | K9: =I9/H9*100 -> 95.116897
C10: 01 2 10 00000 | E10: Основное мероприятие "Обеспечение исполнения администрацией Юсьвинского муниципального округа вопросов местного значения, предусмотренных законом РФ № 131-ФЗ" | F10: =F11 -> 4063.9 | G10: =G11 -> 4063.9 | H10: =H11 -> 1600 | I10: =I11 -> 1521.8704 | J10: =I10/G10*100 -> 37.448519 | K10: =I10/H10*100 -> 95.116897
C11: 01 2 10 4У060 | E11: Обеспечение выполнения функций главы муниципального округа - главы администрации Юсьвинского муниципального округа Пермского края | F11: =F12 -> 4063.9 | G11: =G12 -> 4063.9 | H11: =H12 -> 1600 | I11: =I12 -> 1521.8704 | J11: =I11/G11*100 -> 37.448519 | K11: =I11/H11*100 -> 95.116897
D12: 100 | E12: Расходы на выплаты персоналу в целях обеспечения выполнения функций государственными (муниципальными) органами, казенными учреждениями, органами управления государственными внебюджетными фондами | F12: 4063.9 | G12: 4063.9 | H12: 1600 | I12: 1521.8704 | J12: =I12/G12*100 -> 37.448519 | K12: =I12/H12*100 -> 95.116897
B13: 0104 | E13: Функционирование Правительства Российской Федерации, высших исполнительных органов государственной власти субъектов Российской Федерации, местных администраций | F13: =F14+F44 -> 62251.1 | G13: =G14+G44 -> 62206.555 | H13: =H14+H44 -> 24813.751 | I13: =I14+I44 -> 24244.856 | J13: =I13/G13*100 -> 38.97476 | K13: =I13/H13*100 -> 97.707338
C14: 00 0 00 00000 | E14: Муниципальные программы Юсьвинского муниципального округа Пермского края | F14: =F15+F36 -> 62108.8 | G14: =G15+G36 -> 62064.255 | H14: =H15+H36 -> 24813.751 | I14: =I15+I36 -> 24244.856 | J14: =I14/G14*100 -> 39.064121 | K14: =I14/H14*100 -> 97.707338
C15: 01 0 00 00000 | E15: Муниципальная программа "Муниципальное управления в Юсьвинском муниципальном округе Пермского края" | F15: =F16+F21 -> 62009.6 | G15: =G16+G21 -> 61941.6 | H15: =H16+H21 -> 24794.051 | I15: =I16+I21 -> 24225.156 | J15: =I15/G15*100 -> 39.109671 | K15: =I15/H15*100 -> 97.705517
C16: 01 2 00 00000 | E16: Подпрограмма "Организация деятельности по реализации вопросов местного значения Юсьвинского муниципального округа Пермского края" | F16: =F17 -> 59720.6 | G16: =G17 -> 59652.6 | H16: =H17 -> 23800 | I16: =I17 -> 23231.105 | J16: =I16/G16*100 -> 38.943994 | K16: =I16/H16*100 -> 97.609684
C17: 01 2 10 00000 | E17: Основное мероприятие "Обеспечение исполнения администрацией Юсьвинского муниципального округа вопросов местного значения, предусмотренных законом РФ № 131-ФЗ" | F17: =F18 -> 59720.6 | G17: =G18 -> 59652.6 | H17: =H18 -> 23800 | I17: =I18 -> 23231.105 | J17: =I17/G17*100 -> 38.943994 | K17: =I17/H17*100 -> 97.609684
C18: 01 2 10 4У070 | E18: Обеспечение выполнения функций администрации Юсьвинского муниципального округа и её структурных подразделений | F18: =F19+F20 -> 59720.6 | G18: =G19+G20 -> 59652.6 | H18: =H19+H20 -> 23800 | I18: =I19+I20 -> 23231.105 | J18: =I18/G18*100 -> 38.943994 | K18: =I18/H18*100 -> 97.609684
D19: 100 | E19: Расходы на выплаты персоналу в целях обеспечения выполнения функций государственными (муниципальными) органами, казенными учреждениями, органами управления государственными внебюджетными фондами | F19: 56891.2 | G19: 56987.03 | H19: 22500 | I19: 22105.298 | J19: =I19/G19*100 -> 38.790051 | K19: =I19/H19*100 -> 98.24577
D20: 200 | E20: Закупка товаров, работ и услуг для обеспечения государственных (муниципальных) нужд | F20: 2829.4 | G20: 2665.5699 | H20: 1300 | I20: 1125.8065 | J20: =I20/G20*100 -> 42.235117 | K20: =I20/H20*100 -> 86.600503
C21: 01 3 00 00000 | E21: Подпрограмма "Организация деятельности по осуществлению администрацией Юсьвинского муниципального округа Пермского края переданных отдельных государственных полномочий" | F21: =F22 -> 2289 | G21: =G22 -> 2289 | H21: =H22 -> 994.05111 | I21: =I22 -> 994.05111 | J21: =I21/G21*100 -> 43.427309 | K21: =I21/H21*100 -> 100
C22: 01 3 10 00000 | E22: Основное мероприятие "Обеспечение выполнения переданных отдельных государственных полномочий" | F22: =F33+F25+F28+F30+F23 -> 2289 | G22: =G33+G25+G28+G30+G23 -> 2289 | H22: =H33+H25+H28+H30+H23 -> 994.05111 | I22: =I33+I25+I28+I30+I23 -> 994.05111 | J22: =I22/G22*100 -> 43.427309 | K22: =I22/H22*100 -> 100
C23: 01 3 10 2Т060 | E23: Осуществление полномочий по регулированию тарифов на перевозки пассажиров и багажа автомобильным и городским электрическим транспортом на муниципальных маршрутах регулярных перевозок | F23: =F24 -> 17.5 | G23: =G24 -> 17.5 | H23: =H24 -> 0 | I23: =I24 -> 0 | J23: =I23/G23*100 -> 0
D24: 200 | E24: Закупка товаров, работ и услуг для обеспечения государственных (муниципальных) нужд | F24: 17.5 | G24: 17.5 | H24: 0 | I24: 0 | J24: =I24/G24*100 -> 0
C25: 01 3 10 2В230 | E25: Обеспечение хранения, комплектования, учет и использование архивных документов государственной части архивного фонда Пермского края | F25: =SUM(F26:F27) -> 696.6 | G25: =SUM(G26:G27) -> 696.6 | H25: =SUM(H26:H27) -> 330.9 | I25: =SUM(I26:I27) -> 330.9 | J25: =I25/G25*100 -> 47.502153 | K25: =I25/H25*100 -> 100
D26: 100 | E26: Расходы на выплаты персоналу в целях обеспечения выполнения функций государственными (муниципальными) органами, казенными учреждениями, органами управления государственными внебюджетными фондами | F26: 660.5 | G26: 660.5 | H26: 294.8 | I26: 294.8 | J26: =I26/G26*100 -> 44.632854 | K26: =I26/H26*100 -> 100
D27: 200 | E27: Закупка товаров, работ и услуг для обеспечения государственных (муниципальных) нужд | F27: 36.1 | G27: 36.1 | H27: 36.1 | I27: 36.1 | J27: =I27/G27*100 -> 100 | K27: =I27/H27*100 -> 100
C28: 01 3 10 2П040 | E28: Составление протоколов об административных правонарушениях | F28: =F29 -> 20.9 | G28: =G29 -> 20.9 | H28: =H29 -> 0 | I28: =I29 -> 0 | J28: =I28/G28*100 -> 0
D29: 200 | E29: Закупка товаров, работ и услуг для обеспечения государственных (муниципальных) нужд | F29: 20.9 | G29: 20.9 | H29: 0 | I29: 0 | J29: =I29/G29*100 -> 0
C30: 01 3 10 2П060 | E30: Осуществление полномочий по созданию и организации деятельности административных комиссий | F30: =SUM(F31:F32) -> 79.3 | G30: =SUM(G31:G32) -> 79.3 | H30: =SUM(H31:H32) -> 0.3406 | I30: =SUM(I31:I32) -> 0.3406 | J30: =I30/G30*100 -> 0.4295082 | K30: =I30/H30*100 -> 100
D31: 100 | E31: Расходы на выплаты персоналу в целях обеспечения выполнения функций государственными (муниципальными) органами, казенными учреждениями, органами управления государственными внебюджетными фондами | F31: 23 | G31: 23 | H31: 0 | I31: 0 | J31: =I31/G31*100 -> 0
D32: 200 | E32: Закупка товаров, работ и услуг для обеспечения государственных (муниципальных) нужд | F32: 56.3 | G32: 56.3 | H32: 0.3406 | I32: 0.3406 | J32: =I32/G32*100 -> 0.60497336 | K32: =I32/H32*100 -> 100
C33: 01 3 10 2С150 | E33: Образование комиссий по делам несовершеннолетних и защите их прав и организация их деятельности | F33: =SUM(F34:F35) -> 1474.7 | G33: =SUM(G34:G35) -> 1474.7 | H33: =SUM(H34:H35) -> 662.81051 | I33: =SUM(I34:I35) -> 662.81051 | J33: =I33/G33*100 -> 44.945447 | K33: =I33/H33*100 -> 100
D34: 100 | E34: Расходы на выплаты персоналу в целях обеспечения выполнения функций государственными (муниципальными) органами, казенными учреждениями, органами управления государственными внебюджетными фондами | F34: 1344.2 | G34: 1344.2 | H34: 626.4564 | I34: 626.4564 | J34: =I34/G34*100 -> 46.604404 | K34: =I34/H34*100 -> 100
D35: 200 | E35: Закупка товаров, работ и услуг для обеспечения государственных (муниципальных) нужд | F35: 130.5 | G35: 130.5 | H35: 36.35411 | I35: 36.35411 | J35: =I35/G35*100 -> 27.857556 | K35: =I35/H35*100 -> 100
C36: 04 0 00 00000 | E36: Муниципальная программа "Улучшение жилищных условий граждан, проживающих в Юсьвинском муниципальном округе Пермского края" | F36: =F40 -> 99.2 | G36: =G40+G37 -> 122.655 | H36: =H40 -> 19.7 | I36: =I40 -> 19.7 | J36: =I36/G36*100 -> 16.06131 | K36: =I36/H36*100 -> 100
C37: 04 0 20 00000 | E37: Основное мероприятие "Обеспечение жильем отдельных категорий граждан, установленных законодательством" | F37: =F38 -> 0 | G37: =G38 -> 23.455 | H37: =H38 -> 0 | I37: =I38 -> 0 | J37: =I37/G37*100 -> 0
C38: 04 0 20 2С520 | E38: Обеспечение жилыми помещениями реабилитированных лиц, имеющих инвалидность или являющихся пенсионерами, и проживающих совместно членов их семей | G38: =G39 -> 23.455 | H38: =H39 -> 0 | I38: =I39 -> 0 | J38: =I38/G38*100 -> 0
D39: 100 | E39: Расходы на выплаты персоналу в целях обеспечения выполнения функций государственными (муниципальными) органами, казенными учреждениями, органами управления государственными внебюджетными фондами | G39: 23.455 | H39: 0 | I39: 0 | J39: =I39/G39*100 -> 0
C40: 04 0 30 00000 | E40: Основное мероприятие "Обеспечение жильем детей- сирот и детей, оставшихся без попечения родителей, лиц из числа детей-сирот и детей, оставшихся без попечения родителей" | F40: =F41 -> 99.2 | G40: =G41 -> 99.2 | H40: =H41 -> 19.7 | I40: =I41 -> 19.7 | J40: =I40/G40*100 -> 19.858871 | K40: =I40/H40*100 -> 100
...

Sheet Источники
A1: Отчет об исполнении бюджета Юсьвинского муниципального округа Пермского края по источникам финансирования дефицита бюджета за 1 полугодие 2026 года
G2: (тыс.руб.)
A3: Код классификации источников внутреннего финансирования дефицита | B3: Наименование кода классификации источников внутреннего финансирования дефицита | C3: Уточненный план на 2026 год | D3: Утверждено на 1 полугодие 2026 года | E3: Исполнено на 01.07.2026 г. | F3: % исполнения от годовых назначений | G3: % исполнения от квартальных назначений
A5: 01 00 00 00 00 0000 000 | B5: ИСТОЧНИКИ ВНУТРЕННЕГО ФИНАНСИРОВАНИЯ ДЕФИЦИТОВ БЮДЖЕТОВ | C5: =C6 -> 57381.338 | D5: =D6 -> -35610.756 | E5: =E6 -> -37470.546 | F5: - | G5: =E5/D5*100 -> 105.22255
A6: 01 05 00 00 00 0000 000 | B6: Изменение остатков средств на счетах по учету средств бюджетов | C6: =(C10+C11) -> 57381.338 | D6: =(D10+D11) -> -35610.756 | E6: =(E10+E11) -> -37470.546 | F6: - | G6: =E6/D6*100 -> 105.22255
A7: 01 05 00 00 00 0000 500 | B7: Увеличение остатков средств бюджетов | C7: =C8 -> -1508235.9 | D7: =D8 -> -708893.5 | E7: =E8 -> -709360.41 | F7: =E7/C7*100 -> 47.032457 | G7: =E7/D7*100 -> 100.06586
A8: 01 05 02 00 00 0000 500 | B8: Увеличение прочих остатков средств бюджетов | C8: =C9 -> -1508235.9 | D8: =D9 -> -708893.5 | E8: =E9 -> -709360.41 | F8: =E8/C8*100 -> 47.032457 | G8: =E8/D8*100 -> 100.06586
A9: 01 05 02 01 00 0000 510 | B9: Увеличение прочих остатков денежных средств бюджетов | C9: =C10 -> -1508235.9 | D9: =D10 -> -708893.5 | E9: =E10 -> -709360.41 | F9: =E9/C9*100 -> 47.032457 | G9: =E9/D9*100 -> 100.06586
A10: 01 05 02 01 14 0000 510 | B10: Увеличение прочих остатков денежных средств бюджетов муниципальных округов | C10: =ДОХОДЫ!D209*-1 -> -1508235.9 | D10: =ДОХОДЫ!E209*-1 -> -708893.5 | E10: =ДОХОДЫ!F209*-1 -> -709360.41 | F10: =E10/C10*100 -> 47.032457 | G10: =E10/D10*100 -> 100.06586
A11: 01 05 00 00 00 0000 600 | B11: Уменьшение остатков средств бюджетов | C11: =C12 -> 1565617.3 | D11: =D14 -> 673282.75 | E11: =E14 -> 671889.87 | F11: =E11/C11*100 -> 42.915334 | G11: =E11/D11*100 -> 99.793121
A12: 01 05 02 00 00 0000 600 | B12: Уменьшение прочих остатков средств бюджетов | C12: =C13 -> 1565617.3 | D12: =D14 -> 673282.75 | E12: =E14 -> 671889.87 | F12: =E12/C12*100 -> 42.915334 | G12: =E12/D12*100 -> 99.793121
A13: 01 05 02 01 00 0000 610 | B13: Уменьшение прочих остатков денежных средств бюджетов | C13: =C14 -> 1565617.3 | D13: =D14 -> 673282.75 | E13: =E14 -> 671889.87 | F13: =E13/C13*100 -> 42.915334 | G13: =E13/D13*100 -> 99.793121
A14: 01 05 02 01 14 0000 610 | B14: Уменьшение прочих остатков денежных средств бюджетов муниципальных округов | C14: =расходы!G859 -> 1565617.3 | D14: =расходы!H859 -> 673282.75 | E14: =расходы!I859 -> 671889.87 | F14: =E14/C14*100 -> 42.915334 | G14: =E14/D14*100 -> 99.793121
B15: Всего | C15: =C5 -> 57381.338 | D15: =D5 -> -35610.756 | E15: =E5 -> -37470.546 | F15: - | G15: =E15/D15*100 -> 105.22255

Sheet дорожный фонд
A2: Отчет об использовании бюджетных ассигнований дорожного фонда Юсьвинского муниципального округа Персмского края за 1 полугодие 2026 года
A4: Остаток неиспользованных средств дорожного фонда по состоянию на 01.01.2026, тыс. рублей | E4: =25.7+698.37059 -> 724.07059
A5: Остаток неиспользованных средств дорожного фонда на конец отчетного периода, тыс. рублей | E5: =E4+G12-G26 -> 5059.4088
A6: 1. Доходы
A8: № п/п | B8: Наименование доходов | C8: Уточненный план на 2026 год | G8: Поступления на 01.07.2026 | K8: Остаток неиспользованных бюджетных ассигнований
C10: Всего | D10: в том числе | G10: Всего | H10: в том числе | K10: Всего | L10: в том числе
D11: средства федерального бюджета | E11: средства краевого бюджета | F11: средства местного бюджета | H11: средства федерального бюджета | I11: средства краевого бюджета | J11: средства местного бюджета | L11: средства краевого бюджета | M11: средства краевого бюджета | N11: средства местного бюджета
A12: 1. | B12: Доходы для определения объема дорожного фонда, всего | C12: =SUM(C14:C18) -> 347973.83 | D12: =SUM(D14:D18) -> 250527.88 | E12: =SUM(E14:E18) -> 36981.661 | F12: =SUM(F14:F18) -> 60464.292 | G12: =SUM(G14:G18) -> 133921.25 | H12: =SUM(H14:H18) -> 84537.118 | I12: =SUM(I14:I18) -> 10201.789 | J12: =SUM(J14:J18) -> 39182.341 | ... N12: =SUM(N14:N18) -> 21281.951
B13: в том числе:
A14: 1.1. | B14: акцизы на автомобильный бензин, прямогонный бензин, дизельное топливо, моторные масла для дизельных и (или) карбюраторных (инжекторных) двигателей, производимые на территории Российской Федерации, подлежащие зачислению в местный бюджет | C14: =SUM(E14:F14) -> 27676.7 | D14: 0 | E14: 0 | F14: 27676.7 | G14: =SUM(I14:J14) -> 12290.395 | H14: 0 | I14: 0 | J14: 12290.395 | K14: =SUM(M14:N14) -> 15386.305 | L14: =D14-H14 -> 0 | M14: =E14-I14 -> 0 | N14: =F14-J14 -> 15386.305
A15: 1.2. | B15: субсидии на проектирование, строительство (реконструкция), капитальный ремонт и ремонт автомобильных дорог общего пользования местного значения, находящихся на территории Пермского края | C15: =SUM(E15:F15) -> 24383 | D15: 0 | E15: 24383 | F15: 0 | G15: =SUM(I15:J15) -> 6679.4088 | H15: 0 | I15: 6679.4088 | J15: 0 | K15: =SUM(M15:N15) -> 17703.591 | L15: =D15-H15 -> 0 | M15: =E15-I15 -> 17703.591 | N15: =F15-J15 -> 0
A16: 1.3. | B16: Субсидии бюджетам муниципальных округов на приведение в нормативное состояние автомобильных дорог и искусственных дорожных сооружений | C16: =SUM(D16:F16) -> 260966.54 | D16: 250527.88 | E16: 10438.661 | F16: 0 | G16: =SUM(H16:J16) -> 88059.498 | H16: 84537.118 | I16: 3522.3799 | J16: 0 | K16: =L16+M16+N16 -> 172907.04 | L16: =D16-H16 -> 165990.76 | M16: =E16-I16 -> 6916.2816 | N16: =F16-J16 -> 0
A17: 1.4. | B17: Субсидии бюджетам муниципальных образований на реализацию мероприятия по направлению «Школьная остановка» регионального проекта «Комфортный край» | C17: =SUM(D17:F17) -> 2160 | E17: 2160 | G17: =SUM(H17:J17) -> 0 | K17: =SUM(M17:N17) -> 2160 | L17: =D17-H17 -> 0 | M17: =E17-I17 -> 2160 | N17: =F17-J17 -> 0
A18: 1.5. | B18: Дотации на выравнивание бюджетной обеспеченности | C18: =F18 -> 32787.592 | D18: 0 | E18: 0 | F18: 32787.592 | G18: =SUM(I18:J18) -> 26891.946 | H18: 0 | I18: 0 | J18: =J26-J14-724.07059 -> 26891.946 | K18: =SUM(M18:N18) -> 5895.6462 | L18: =D18-H18 -> 0 | M18: =E18-I18 -> 0 | N18: =F18-J18 -> 5895.6462
A20: 2.Расходы
A22: № п/п | B22: Наименование направлений расходов | C22: Уточненный план на 2026 год | G22: Кассовый расход на 01.04.2026 | K22: Остаток неиспользованных бюджетных ассигнований
C24: Всего | D24: в том числе | G24: Всего | H24: в том числе | K24: Всего | L24: в том числе
D25: средства федерального бюджета | E25: средства краевого бюджета | F25: средства местного бюджета | H25: средства федерального бюджета | I25: средства краевого бюджета | J25: средства местного бюджета | L25: средства федерального бюджета | M25: средства краевого бюджета | N25: средства местного бюджета
A26: 1. | B26: Муниципальная программа "Развитие транспортной системы Юсьвинского муниципального округа Пермского края", в том числе: | C26: =C27+C88 -> 348697.9 | D26: =D27+D88 -> 250527.88 | E26: =E27+E88 -> 36981.661 | F26: =F27+F88 -> 61188.362 | G26: =G27+G88 -> 129585.91 | H26: =H27+H88 -> 84537.118 | I26: =I27+I88 -> 5142.3799 | J26: =J27+J88 -> 39906.411 | K26: =K27+K88 -> 218311.99 | L26: =D26-H26 -> 165990.76 | M26: =E26-I26 -> 31839.282 | N26: =F26-J26 -> 21281.951
A27: 1.1. | B27: Подпрограмма «Развитие и совершенствование автомобильных дорог Юсьвинского муниципального округа» | C27: =C28+C33+C79+C81+C30+C84 -> 344760.9 | D27: =D28+D33+D79+D81+D30 -> 250527.88 | E27: =E28+E33+E79+E81+E30 -> 34821.661 | F27: =F28+F33+F79+F81+F30+F84 -> 59411.362 | G27: =G28+G33+G79+G81+G30 -> 129585.91 | H27: =H28+H33+H79+H81+H30 -> 84537.118 | I27: =I28+I33+I79+I81+I30 -> 5142.3799 | J27: =J28+J33+J79+J81+J30 -> 39906.411 | K27: =K28+K33+K79+K81+K30+K84 -> 214374.99 | L27: =D27-H27 -> 165990.76 | M27: =E27-I27 -> 29679.282 | N27: =F27-J27 -> 19504.951
A28: 1.1.1. | B28: Основное мероприятие "Разработка технической документации на автомобильные дороги и (или) искусственные дорожные сооружения" | C28: =C29 -> 1127.6 | D28: =D29 -> 0 | E28: =E29 -> 0 | F28: =F29 -> 1127.6 | G28: =G29 -> 0 | H28: =H29 -> 0 | I28: =I29 -> 0 | J28: =J29 -> 0 | K28: =K29 -> 1127.6 | L28: =D28-H28 -> 0 | M28: =E28-I28 -> 0 | N28: =F28-J28 -> 1127.6
B29: Мероприятие "Разработка технических паспортов на автомобильные дороги Юсьвинского муниципального округа Пермского края" | C29: =F29 -> 1127.6 | D29: 0 | E29: 0 | F29: =574.3+553.3 -> 1127.6 | G29: =J29 -> 0 | H29: 0 | I29: 0 | J29: 0 | K29: =N29 -> 1127.6 | L29: =D29-H29 -> 0 | M29: =E29-I29 -> 0 | N29: =F29-J29 -> 1127.6
A30: 1.1.2. | B30: Основное мероприятие "Проектно-изыскательские работы" | C30: =C31+C32 -> 4808 | D30: =D31 -> 0 | E30: =E31 -> 0 | F30: =F31+F32 -> 4808 | G30: =G31 -> 4608 | H30: =H31 -> 0 | I30: =I31 -> 0 | J30: =J31 -> 4608 | K30: =K31 -> 0 | L30: =D30-H30 -> 0 | M30: =E30-I30 -> 0 | N30: =F30-J30 -> 200
B31: Проектно-изыскательские работы по капитальному ремонту моста через р. Лысковка на км 0+677 автомобильной дороги "Подъезд к пристани Пожва" | C31: =F31 -> 4608 | D31: 0 | E31: 0 | F31: 4608 | G31: =H31+I31+J31 -> 4608 | H31: 0 | I31: 0 | J31: 4608 | K31: =N31 -> 0 | L31: =D31-H31 -> 0 | M31: =E31-I31 -> 0 | N31: =F31-J31 -> 0
B32: Предпроектное обследование объектов дорожной сети | C32: 200 | D32: 0 | E32: 0 | F32: 200 | G32: 0 | H32: 0 | I32: 0 | J32: 0 | K32: 0 | L32: 0 | M32: 0 | N32: 0
A33: 1.1.3. | B33: Основное мероприятие «Ремонт муниципальных дорог и искусственных дорожных сооружений» | C33: =C34+C66+C53+C78 -> 41571.422 | D33: 0 | E33: =E34+E66+E53 -> 24383 | F33: =F34+F66+F53+F78 -> 17188.422 | G33: =G34+G66+G53 -> 9198.5406 | H33: 0 | I33: =I34+I66+I53 -> 1620 | J33: =J34+J66+J53 -> 7578.5406 | K33: =K34+K66+K53 -> 31772.882 | L33: =D33-H33 -> 0 | M33: =E33-I33 -> 22763 | N33: =F33-J33 -> 9609.8817
B34: Мероприятие "Ремонт автомобильных дорог (софинансируемые из бюджета ПК)" | C34: =E34+F34 -> 27092.222 | D34: 0 | E34: =SUM(E35:E52) -> 24383 | F34: =SUM(F35:F52) -> 2709.2223 | G34: =SUM(I34+J34) -> 1800 | H34: 0 | I34: =SUM(I35:I52) -> 1620 | J34: =SUM(J35:J52) -> 180 | K34: =SUM(M34+N34) -> 25292.222 | L34: =D34-H34 -> 0 | M34: =E34-I34 -> 22763 | N34: =F34-J34 -> 2529.2223
B35: Ремонт автомобильных дорог (нераспределенные средства) | C35: 0 | D35: 0 | E35: 0 | F35: 0 | G35: =SUM(I35+J35) -> 0 | H35: 0 | I35: 0 | J35: 0 | K35: =SUM(M35+N35) -> 0 | L35: =D35-H35 -> 0 | M35: =E35-I35 -> 0 | N35: =F35-J35 -> 0
B36: Ремонт участка автомобильной дороги "Архангельское-Антипино" км 000+000- км 002+200 | C36: =D36+E36+F36 -> 6100.8235 | D36: 0 | E36: 5490.7411 | F36: 610.08235 | G36: 0 | H36: 0 | I36: 0 | J36: 0 | K36: 0 | L36: =D36-H36 -> 0 | M36: =E36-I36 -> 5490.7411 | N36: =F36-J36 -> 610.08235
B37: Ремонт участка автомобильной дороги "Юсьва-Трифаново" км 002+800 км 005+800 | C37: =D37+E37+F37 -> 9346.1765 | D37: 0 | E37: 8411.5589 | F37: 934.61766 | G37: 0 | H37: 0 | I37: 0 | J37: 0 | K37: 0 | L37: =D37-H37 -> 0 | M37: =E37-I37 -> 8411.5589 | N37: =F37-J37 -> 934.61766
B38: Ремонт автомобильной дороги по ул. Колхозная с. Аксеново | C38: =D38+E38+F38 -> 600 | D38: 0 | E38: 540 | F38: 60 | G38: 0 | H38: 0 | I38: 0 | J38: 0 | K38: 0 | L38: =D38-H38 -> 0 | M38: =E38-I38 -> 540 | N38: =F38-J38 -> 60
B39: Ремонт автомобильной дороги по ул. Пионерская (от ул. Комсомольская до ул. Студенческая) п. Тукачево | C39: =D39+E39+F39 -> 600 | D39: 0 | E39: 540 | F39: 60 | G39: 0 | H39: 0 | I39: 0 | J39: 0 | K39: 0 | L39: =D39-H39 -> 0 | M39: =E39-I39 -> 540 | N39: =F39-J39 -> 60
B40: Ремонт автомобильной дороги по ул. Пушкина (от дома №47 до ул. Мира) п. Майкор | C40: =D40+E40+F40 -> 600 | D40: 0 | E40: 540 | F40: 60 | G40: 0 | H40: 0 | I40: 540 | J40: 60 | K40: 0 | L40: =D40-H40 -> 0 | M40: =E40-I40 -> 0 | N40: =F40-J40 -> 0
B41: Ремонт автомобильной дороги по ул. Заречная (от дома №5 до дома №26)д. Обирино | C41: =D41+E41+F41 -> 600 | D41: 0 | E41: 540 | F41: 60 | G41: 0 | H41: 0 | I41: 540 | J41: 60 | K41: 0 | L41: =D41-H41 -> 0 | M41: =E41-I41 -> 0 | N41: =F41-J41 -> 0
B42: Ремонт автомобильной дороги по ул. Подгорная (от дома №1 до дома №12) | C42: =D42+E42+F42 -> 1086.694 | D42: 0 | E42: 978.0246 | F42: 108.66941 | G42: 0 | H42: 0 | I42: 0 | J42: 0 | K42: 0 | L42: =D42-H42 -> 0 | M42: =E42-I42 -> 978.0246 | N42: =F42-J42 -> 108.66941
B43: Ремонт автомобильной дороги по ул. Заречная (от ул. Мартыновская до дома №10 с отворотом к дому №4а) д. Ситково | C43: =D43+E43+F43 -> 1210.0572 | D43: 0 | E43: 1089.0515 | F43: 121.00573 | G43: 0 | H43: 0 | I43: 0 | J43: 0 | K43: 0 | L43: =D43-H43 -> 0 | M43: =E43-I43 -> 1089.0515 | N43: =F43-J43 -> 121.00573
B44: Ремонт автомобильной дороги по ул. Полевая (от дома №5 до дома №15) с. Архангельское | C44: =D44+E44+F44 -> 939.35595 | D44: 0 | E44: 845.42035 | F44: 93.9356 | G44: 0 | H44: 0 | I44: 0 | J44: 0 | K44: 0 | L44: =D44-H44 -> 0 | M44: =E44-I44 -> 845.42035 | N44: =F44-J44 -> 93.9356
B45: Ремонт автомобильной дороги по ул. Восточная с. Тимино | C45: =D45+E45+F45 -> 583.35278 | D45: 0 | E45: 525.0175 | F45: 58.33528 | G45: 0 | H45: 0 | I45: 0 | J45: 0 | K45: 0 | L45: =D45-H45 -> 0 | M45: =E45-I45 -> 525.0175 | N45: =F45-J45 -> 58.33528
B46: Ремонт автомобильной дороги по ул. Паньковская (от дома №2 до дома №11) с. Юсьва | C46: =D46+E46+F46 -> 942.15042 | D46: 0 | E46: 847.93537 | F46: 94.21505 | G46: 0 | H46: 0 | I46: 0 | J46: 0 | K46: 0 | L46: =D46-H46 -> 0 | M46: =E46-I46 -> 847.93537 | N46: =F46-J46 -> 94.21505
B47: Ремонт автомобильной дороги по ул. Центральная (от дома №13 до дома №16) д. Вороново | C47: =D47+E47+F47 -> 600 | D47: 0 | E47: 540 | F47: 60 | G47: 0 | H47: 0 | I47: 0 | J47: 0 | K47: 0 | L47: =D47-H47 -> 0 | M47: =E47-I47 -> 540 | N47: =F47-J47 -> 60
...
