Workbook

Sheet приложение 1
I1: Приложение 1
I2: к решению Думы Юсьвинского
I3: муниципального округа
I4: Пермского края
I5: от 16.09.2026 № 207
A6: Распределение бюджетных ассигнований по целевым статьям (муниципальным программам и непрограммным направлениям деятельности) и группам видов расходов классификации расходов на 2026-2028 годы
J7: (тыс.руб.)
A8: Целевая статья | B8: Вид расходов | C8: Направление расходов (отрасль) | D8: 2026 год | F8: 2026 год | G8: 2027 год (проект) | I8: 2027 год | J8: 2028 год
E9: изменения
A10: 00 0 00 00000 | C10: Муниципальные программы Юсьвинского муниципального округа Пермского края | D10: =D11+D56+D167+D194+D218+D294+D308+D327+D354+D427+D481+D493+D516+D524 -> 1351173.5 | E10: =E11+E56+E167+E194+E218+E294+E308+E327+E354+E427+E481+E493+E516+E524 -> 3161.8042 | F10: =F11+F56+F167+F194+F218+F294+F308+F327+F354+F427+F481+F493+F516+F524 -> 1354335.4 | G10: =G11+G56+G167+G194+G218+G294+G308+G327+G354+G427+G481+G493+G516+G524 -> 987024.63 | H10: =H11+H56+H167+H194+H218+H294+H308+H327+H354+H427+H481+H493+H516+H524 -> 554.13055 | I10: =I11+I56+I167+I194+I218+I294+I308+I327+I354+I427+I481+I493+I516+I524 -> 987578.76 | J10: =J11+J56+J167+J194+J218+J294+J308+J327+J354+J427+J481+J493+J516+J524 -> 948255.29
A11: 01 0 00 00000 | C11: Муниципальная программа "Муниципальное управление в Юсьвинском муниципальном округе Пермского края" | D11: =D12+D18+D27+D50 -> 103853.4 | F11: =F12+F18+F27+F50 -> 103853.4 | G11: =G12+G18+G27+G50 -> 106681.8 | I11: =I12+I18+I27+I50 -> 106681.8 | J11: =J12+J18+J27+J50 -> 108411.1
A12: 01 1 00 00000 | C12: Подпрограмма "Формирование общедоступной информационно-коммуникационной среды" | D12: =D13 -> 687.2 | F12: =F13 -> 687.2 | G12: =G13 -> 69.4 | I12: =I13 -> 69.4 | J12: =J13 -> 615.9
A13: 01 1 20 00000 | C13: Основное мероприятие "Предоставление муниципальных услуг в электронном виде" | D13: =D14+D16 -> 687.2 | F13: =F14+F16 -> 687.2 | G13: =G14+G16 -> 69.4 | I13: =I14+I16 -> 69.4 | J13: =J14+J16 -> 615.9
A14: 01 1 20 4У020 | C14: Обеспечение, сопровождение информационных систем, приобретение компьютерной оргтехники в целях автоматизации административно-управленческих процессов при выполнении функций администрации Юсьвинского муниципального округа Пермского края | D14: =D15 -> 610.7 | F14: =F15 -> 610.7 | G14: =G15 -> 0 | I14: =I15 -> 0 | J14: =J15 -> 539.4
B15: 200 | C15: Закупка товаров, работ и услуг для обеспечения государственных (муниципальных) нужд | D15: 610.7 | F15: 610.7 | G15: 0 | I15: 0 | J15: 539.4
A16: 01 1 20 4У040 | C16: Обеспечение функционирования официального сайта администрации Юсьвинского муниципального округа Пермского края | D16: =D17 -> 76.5 | F16: =F17 -> 76.5 | G16: =G17 -> 69.4 | I16: =I17 -> 69.4 | J16: =J17 -> 76.5
B17: 200 | C17: Закупка товаров, работ и услуг для обеспечения государственных (муниципальных) нужд | D17: 76.5 | F17: 76.5 | G17: 69.4 | I17: 69.4 | J17: 76.5
A18: 01 2 00 00000 | C18: Подпрограмма "Организация деятельности по реализации вопросов местного значения Юсьвинского муниципального округа Пермского края" | D18: =D19 -> 96776.3 | F18: =F19 -> 96776.3 | G18: =G19 -> 100083.9 | I18: =I19 -> 100083.9 | J18: =J19 -> 100263.4
A19: 01 2 10 00000 | C19: Основное мероприятие "Обеспечение исполнения администрацией Юсьвинского муниципального округа вопросов местного значения, предусмотренных законом РФ № 131-ФЗ" | D19: =D20+D22+D25 -> 96776.3 | F19: =F20+F22+F25 -> 96776.3 | G19: =G20+G22+G25 -> 100083.9 | I19: =I20+I22+I25 -> 100083.9 | J19: =J20+J22+J25 -> 100263.4
A20: 01 2 10 4У060 | C20: Обеспечение выполнения функций главы муниципального округа - главы администрации Юсьвинского муниципального округа Пермского края | D20: =D21 -> 4063.9 | F20: =F21 -> 4063.9 | G20: =G21 -> 4238.1 | I20: =I21 -> 4238.1 | J20: =J21 -> 4238.1
B21: 100 | C21: Расходы на выплаты персоналу в целях обеспечения выполнения функций государственными (муниципальными) органами, казенными учреждениями, органами управления государственными внебюджетными фондами | D21: 4063.9 | F21: 4063.9 | G21: 4238.1 | I21: 4238.1 | J21: 4238.1
A22: 01 2 10 4У070 | C22: Обеспечение выполнения функций администрации Юсьвинского муниципального округа и её структурных подразделений | D22: =D23+D24 -> 83221.4 | F22: =F23+F24 -> 83221.4 | G22: =G23+G24 -> 86166.2 | I22: =I23+I24 -> 86166.2 | J22: =J23+J24 -> 86345.7
B23: 100 | C23: Расходы на выплаты персоналу в целях обеспечения выполнения функций государственными (муниципальными) органами, казенными учреждениями, органами управления государственными внебюджетными фондами | D23: =78712.2+663.6+71.9 -> 79447.7 | F23: =78712.2+663.6+71.9 -> 79447.7 | G23: =82087.2+828.9 -> 82916.1 | I23: =82087.2+828.9 -> 82916.1 | J23: =82087.2+828.9 -> 82916.1
B24: 200 | C24: Закупка товаров, работ и услуг для обеспечения государственных (муниципальных) нужд | D24: =3394.5+350+29.2 -> 3773.7 | F24: =3394.5+350+29.2 -> 3773.7 | G24: =3215+35.1 -> 3250.1 | I24: =3215+35.1 -> 3250.1 | J24: =3394.5+35.1 -> 3429.6
A25: 01 2 10 70001 | C25: Выплата пенсии за выслугу лет лицам, замещавшим муниципальные должности и должности муниципальной службы | D25: =D26 -> 9491 | F25: =F26 -> 9491 | G25: =G26 -> 9679.6 | I25: =I26 -> 9679.6 | J25: =J26 -> 9679.6
B26: 300 | C26: Социальное обеспечение и иные выплаты населению | D26: 9491 | F26: 9491 | G26: 9679.6 | I26: 9679.6 | J26: 9679.6
A27: 01 3 00 00000 | C27: Подпрограмма "Организация деятельности по осуществлению администрацией Юсьвинского муниципального округа Пермского края переданных отдельных государственных полномочий" | D27: =D28 -> 6170.5 | F27: =F28 -> 6170.5 | G27: =G28 -> 6528.5 | I27: =I28 -> 6528.5 | J27: =J28 -> 7312.4
A28: 01 3 10 00000 | C28: Основное мероприятие "Обеспечение выполнения переданных отдельных государственных полномочий" | D28: =D29+D32+D35+D37+D40+D42+D44+D47 -> 6170.5 | F28: =F29+F32+F35+F37+F40+F42+F44+F47 -> 6170.5 | G28: =G29+G32+G35+G37+G40+G42+G44+G47 -> 6528.5 | I28: =I29+I32+I35+I37+I40+I42+I44+I47 -> 6528.5 | J28: =J29+J32+J35+J37+J40+J42+J44+J47 -> 7312.4
A29: 01 3 10 2С150 | C29: Образование комиссий по делам несовершеннолетних и защите их прав и организация их деятельности | D29: =D30+D31 -> 1474.7 | F29: =F30+F31 -> 1474.7 | G29: =G30+G31 -> 1513.6 | I29: =I30+I31 -> 1513.6 | J29: =J30+J31 -> 1513.6
B30: 100 | C30: Расходы на выплаты персоналу в целях обеспечения выполнения функций государственными (муниципальными) органами, казенными учреждениями, органами управления государственными внебюджетными фондами | D30: 1344.2 | F30: 1344.2 | G30: 1401.9 | I30: 1401.9 | J30: 1401.9
B31: 200 | C31: Закупка товаров, работ и услуг для обеспечения государственных (муниципальных) нужд | D31: 130.5 | F31: 130.5 | G31: 111.7 | I31: 111.7 | J31: 111.7
A32: 01 3 10 2В230 | C32: Обеспечение хранения, комплектования, учета и использования архивных документов государственной части документов Архивного фонда Пермского края | D32: =D33+D34 -> 696.6 | F32: =F33+F34 -> 696.6 | G32: =G33+G34 -> 714.4 | I32: =I33+I34 -> 714.4 | J32: =J33+J34 -> 714.4
B33: 100 | C33: Расходы на выплаты персоналу в целях обеспечения выполнения функций государственными (муниципальными) органами, казенными учреждениями, органами управления государственными внебюджетными фондами | D33: 660.5 | F33: 660.5 | G33: 688.9 | I33: 688.9 | J33: 688.9
B34: 200 | C34: Закупка товаров, работ и услуг для обеспечения государственных (муниципальных) нужд | D34: 36.1 | F34: 36.1 | G34: 25.5 | I34: 25.5 | J34: 25.5
A35: 01 3 10 2П040 | C35: Составление протоколов об административных правонарушениях | D35: =D36 -> 20.9 | F35: =F36 -> 20.9 | G35: =G36 -> 20.9 | I35: =I36 -> 20.9 | J35: =J36 -> 20.9
B36: 200 | C36: Закупка товаров, работ и услуг для обеспечения государственных (муниципальных) нужд | D36: 20.9 | F36: 20.9 | G36: 20.9 | I36: 20.9 | J36: 20.9
A37: 01 3 10 2П060 | C37: Осуществление полномочий по созданию и организации деятельности административных комиссий | D37: =D38+D39 -> 79.3 | F37: =F38+F39 -> 79.3 | G37: =G38+G39 -> 81.4 | I37: =I38+I39 -> 81.4 | J37: =J38+J39 -> 81.4
B38: 100 | C38: Расходы на выплаты персоналу в целях обеспечения выполнения функций государственными (муниципальными) органами, казенными учреждениями, органами управления государственными внебюджетными фондами | D38: 23 | F38: 23 | G38: 24 | I38: 24 | J38: 24
B39: 200 | C39: Закупка товаров, работ и услуг для обеспечения государственных (муниципальных) нужд | D39: 56.3 | F39: 56.3 | G39: 57.4 | I39: 57.4 | J39: 57.4
A40: 01 3 10 2Т060 | C40: Осуществление полномочий по регулированию тарифов на перевозки пассажиров и багажа автомобильным и городским электрическим транспортом на муниципальных маршрутах регулярных перевозок | D40: =D41 -> 17.5 | F40: =F41 -> 17.5 | G40: =G41 -> 18 | I40: =I41 -> 18 | J40: =J41 -> 18
...

Sheet Приложение 2
K1: Приложение 2
K2: к решению Думы Юсьвинского
K3: муниципального округа
K4: Пермского края
K5: от 16.09.2026 № 207
A7: Ведомственная структура расходов Юсьвинского муниципального округа Пермского края на 2026 год и на плановый период 2027-2028 годы
A9: Ведомство | B9: Раздел, подраздел | C9: Целевая статья | D9: Вид расходов | E9: Направление расходов (отрасль) | F9: 2026 год | H9: 2026 год | I9: 2027 год | K9: 2027 год | L9: 2028 год | N9: 2028 год
F10: утверждено | H10: утверждено | I10: утверждено | K10: утверждено | L10: утверждено | N10: проект
A11: 601 | E11: Администрация Юсьвинского муниципального округа Пермского края | F11: =F12+F107+F116+F171+F295+F451+F467+F441+F519 -> 689234.56 | G11: =G12+G107+G116+G171+G295+G451+G467+G441+G519 -> 3634.2042 | H11: =H12+H107+H116+H171+H295+H451+H467+H441+H519 -> 692868.77 | I11: =I12+I107+I116+I171+I295+I451+I467+I441+I519 -> 295082.9 | J11: =J12+J107+J116+J171+J295+J451+J467+J441+J519 -> 1150.9306 | K11: =K12+K107+K116+K171+K295+K451+K467+K441+K519 -> 296233.83 | L11: =L12+L107+L116+L171+L295+L451+L467+L441+L519 -> 301550.06 | N11: =N12+N107+N116+N171+N295+N451+N467+N441+N519 -> 301550.06
B12: 0100 | E12: Общегосударственные вопросы | F12: =F13+F20+F54+F61 -> 125647.66 | G12: =G13+G20+G54+G61 -> 384.7 | H12: =H13+H20+H54+H61 -> 126032.36 | I12: =I13+I20+I54+I61 -> 113064.71 | J12: =J13+J20+J54+J61 -> 844.3 | K12: =K13+K20+K54+K61 -> 113909.01 | L12: =L13+L20+L54+L61 -> 115835 | N12: =N13+N20+N54+N61 -> 115835
B13: 0102 | E13: Функционирование высшего должностного лица субъекта Российской Федерации и муниципального образования | F13: =F14 -> 4063.9 | H13: =H14 -> 4063.9 | I13: =I14 -> 4238.1 | K13: =K14 -> 4238.1 | L13: =L14 -> 4238.1 | N13: =N14 -> 4238.1
C14: 00 0 00 00000 | E14: Муниципальные программы Юсьвинского муниципального округа Пермского края | F14: =F15 -> 4063.9 | H14: =H15 -> 4063.9 | I14: =I15 -> 4238.1 | K14: =K15 -> 4238.1 | L14: =L15 -> 4238.1 | N14: =N15 -> 4238.1
C15: 01 0 00 00000 | E15: Муниципальная программа "Муниципальное управление в Юсьвинском муниципальном округе Пермского края" | F15: =F16 -> 4063.9 | H15: =H16 -> 4063.9 | I15: =I16 -> 4238.1 | K15: =K16 -> 4238.1 | L15: =L16 -> 4238.1 | N15: =N16 -> 4238.1
C16: 01 2 00 00000 | E16: Подпрограмма "Организация деятельности по реализации вопросов местного значения Юсьвинского муниципального округа Пермского края" | F16: =F17 -> 4063.9 | H16: =H17 -> 4063.9 | I16: =I17 -> 4238.1 | K16: =K17 -> 4238.1 | L16: =L17 -> 4238.1 | N16: =N17 -> 4238.1
C17: 01 2 10 00000 | E17: Основное мероприятие "Обеспечение исполнения администрацией Юсьвинского муниципального округа вопросов местного значения, предусмотренных законом РФ № 131-ФЗ" | F17: =F18 -> 4063.9 | H17: =H18 -> 4063.9 | I17: =I18 -> 4238.1 | K17: =K18 -> 4238.1 | L17: =L18 -> 4238.1 | N17: =N18 -> 4238.1
C18: 01 2 10 4У060 | E18: Обеспечение выполнения функций главы муниципального округа - главы администрации Юсьвинского муниципального округа Пермского края | F18: =F19 -> 4063.9 | H18: =H19 -> 4063.9 | I18: =I19 -> 4238.1 | K18: =K19 -> 4238.1 | L18: =L19 -> 4238.1 | N18: =N19 -> 4238.1
D19: 100 | E19: Расходы на выплаты персоналу в целях обеспечения выполнения функций государственными (муниципальными) органами, казенными учреждениями, органами управления государственными внебюджетными фондами | F19: 4063.9 | H19: 4063.9 | I19: 4238.1 | K19: 4238.1 | L19: 4238.1 | N19: 4238.1
B20: 0104 | E20: Функционирование Правительства Российской Федерации, высших исполнительных органов государственной власти субъектов Российской Федерации, местных администраций | F20: =F21+F48 -> 62251.1 | H20: =H21+H48 -> 62251.1 | I20: =I21+I48 -> 64207.5 | K20: =K21+K48 -> 64207.5 | L20: =L21+L48 -> 64334.3 | N20: =N21+N48 -> 64334.3
C21: 00 0 00 00000 | E21: Муниципальные программы Юсьвинского муниципального округа Пермского края | F21: =F22+F43 -> 62108.8 | H21: =H22+H43 -> 62108.8 | I21: =I22+I43 -> 64201.1 | K21: =K22+K43 -> 64201.1 | L21: =L22+L43 -> 64327.9 | N21: =N22+N43 -> 64327.9
C22: 01 0 00 00000 | E22: Муниципальная программа "Муниципальное управления в Юсьвинском муниципальном округе Пермского края" | F22: =F23+F28 -> 62009.6 | H22: =H23+H28 -> 62009.6 | I22: =I23+I28 -> 64099.2 | K22: =K23+K28 -> 64099.2 | L22: =L23+L28 -> 64226 | N22: =N23+N28 -> 64226
C23: 01 2 00 00000 | E23: Подпрограмма "Организация деятельности по реализации вопросов местного значения Юсьвинского муниципального округа Пермского края" | F23: =F24 -> 59720.6 | H23: =H24 -> 59720.6 | I23: =I24 -> 61750.9 | K23: =K24 -> 61750.9 | L23: =L24 -> 61877.7 | N23: =N24 -> 61877.7
C24: 01 2 10 00000 | E24: Основное мероприятие "Обеспечение исполнения администрацией Юсьвинского муниципального округа вопросов местного значения, предусмотренных законом РФ № 131-ФЗ" | F24: =F25 -> 59720.6 | H24: =H25 -> 59720.6 | I24: =I25 -> 61750.9 | K24: =K25 -> 61750.9 | L24: =L25 -> 61877.7 | N24: =N25 -> 61877.7
C25: 01 2 10 4У070 | E25: Обеспечение выполнения функций администрации Юсьвинского муниципального округа и её структурных подразделений | F25: =F26+F27 -> 59720.6 | H25: =H26+H27 -> 59720.6 | I25: =I26+I27 -> 61750.9 | K25: =K26+K27 -> 61750.9 | L25: =L26+L27 -> 61877.7 | N25: =N26+N27 -> 61877.7
D26: 100 | E26: Расходы на выплаты персоналу в целях обеспечения выполнения функций государственными (муниципальными) органами, казенными учреждениями, органами управления государственными внебюджетными фондами | F26: 56891.2 | H26: 56891.2 | I26: 59392.4 | K26: 59392.4 | L26: 59392.4 | N26: 59392.4
D27: 200 | E27: Закупка товаров, работ и услуг для обеспечения государственных (муниципальных) нужд | F27: =2450.2+350+29.2 -> 2829.4 | H27: =2450.2+350+29.2 -> 2829.4 | I27: 2358.5 | K27: 2358.5 | L27: 2485.3 | N27: 2485.3
C28: 01 3 00 00000 | E28: Подпрограмма "Организация деятельности по осуществлению администрацией Юсьвинского муниципального округа Пермского края переданных отдельных государственных полномочий" | F28: =F29 -> 2289 | H28: =H29 -> 2289 | I28: =I29 -> 2348.3 | K28: =K29 -> 2348.3 | L28: =L29 -> 2348.3 | N28: =N29 -> 2348.3
C29: 01 3 10 00000 | E29: Основное мероприятие "Обеспечение выполнения переданных отдельных государственных полномочий" | F29: =F30+F33+F36+F38+F41 -> 2289 | H29: =H30+H33+H36+H38+H41 -> 2289 | I29: =I30+I33+I36+I38+I41 -> 2348.3 | K29: =K30+K33+K36+K38+K41 -> 2348.3 | L29: =L30+L33+L36+L38+L41 -> 2348.3 | N29: =N30+N33+N36+N38+N41 -> 2348.3
C30: 01 3 10 2С150 | E30: Образование комиссий по делам несовершеннолетних и защите их прав и организация их деятельности | F30: =SUM(F31:F32) -> 1474.7 | H30: =SUM(H31:H32) -> 1474.7 | I30: =SUM(I31:I32) -> 1513.6 | K30: =SUM(K31:K32) -> 1513.6 | L30: =SUM(L31:L32) -> 1513.6 | N30: =SUM(N31:N32) -> 1513.6
D31: 100 | E31: Расходы на выплаты персоналу в целях обеспечения выполнения функций государственными (муниципальными) органами, казенными учреждениями, органами управления государственными внебюджетными фондами | F31: 1344.2 | H31: 1344.2 | I31: 1401.9 | K31: 1401.9 | L31: 1401.9 | N31: 1401.9
D32: 200 | E32: Закупка товаров, работ и услуг для обеспечения государственных (муниципальных) нужд | F32: 130.5 | H32: 130.5 | I32: 111.7 | K32: 111.7 | L32: 111.7 | N32: 111.7
C33: 01 3 10 2В230 | E33: Обеспечение хранения, комплектования, учет и использование архивных документов государственной части архивного фонда Пермского края | F33: =SUM(F34:F35) -> 696.6 | H33: =SUM(H34:H35) -> 696.6 | I33: =SUM(I34:I35) -> 714.4 | K33: =SUM(K34:K35) -> 714.4 | L33: =SUM(L34:L35) -> 714.4 | N33: =SUM(N34:N35) -> 714.4
D34: 100 | E34: Расходы на выплаты персоналу в целях обеспечения выполнения функций государственными (муниципальными) органами, казенными учреждениями, органами управления государственными внебюджетными фондами | F34: 660.5 | H34: 660.5 | I34: 688.9 | K34: 688.9 | L34: 688.9 | N34: 688.9
D35: 200 | E35: Закупка товаров, работ и услуг для обеспечения государственных (муниципальных) нужд | F35: 36.1 | H35: 36.1 | I35: 25.5 | K35: 25.5 | L35: 25.5 | N35: 25.5
C36: 01 3 10 2П040 | E36: Составление протоколов об административных правонарушениях | F36: =F37 -> 20.9 | H36: =H37 -> 20.9 | I36: =I37 -> 20.9 | K36: =K37 -> 20.9 | L36: =L37 -> 20.9 | N36: =N37 -> 20.9
D37: 200 | E37: Закупка товаров, работ и услуг для обеспечения государственных (муниципальных) нужд | F37: 20.9 | H37: 20.9 | I37: 20.9 | K37: 20.9 | L37: 20.9 | N37: 20.9
C38: 01 3 10 2П060 | E38: Осуществление полномочий по созданию и организации деятельности административных комиссий | F38: =SUM(F39:F40) -> 79.3 | H38: =SUM(H39:H40) -> 79.3 | I38: =SUM(I39:I40) -> 81.4 | K38: =SUM(K39:K40) -> 81.4 | L38: =SUM(L39:L40) -> 81.4 | N38: =SUM(N39:N40) -> 81.4
D39: 100 | E39: Расходы на выплаты персоналу в целях обеспечения выполнения функций государственными (муниципальными) органами, казенными учреждениями, органами управления государственными внебюджетными фондами | F39: 23 | H39: 23 | I39: 24 | K39: 24 | L39: 24 | N39: 24
D40: 200 | E40: Закупка товаров, работ и услуг для обеспечения государственных (муниципальных) нужд | F40: 56.3 | H40: 56.3 | I40: 57.4 | K40: 57.4 | L40: 57.4 | N40: 57.4
C41: 01 3 10 2Т060 | E41: Осуществление полномочий по регулированию тарифов на перевозки пассажиров и багажа автомобильным и городским электрическим транспортом на муниципальных маршрутах регулярных перевозок | F41: =F42 -> 17.5 | H41: =H42 -> 17.5 | I41: =I42 -> 18 | K41: =K42 -> 18 | L41: =L42 -> 18 | N41: =N42 -> 18
D42: 200 | E42: Закупка товаров, работ и услуг для обеспечения государственных (муниципальных) нужд | F42: 17.5 | H42: 17.5 | I42: 18 | K42: 18 | L42: 18 | N42: 18
...

Sheet Приложение 4
K1: Приложение 4
K2: к решению Думы Юсьвинского
K3: муниципального округа
K4: Пермского края
K5: от 16.09.2026 № 207
A7: Распределение средств дорожного фонда Юсьвинского муниципального округа Пермского края на 2026 год и на плановый период 2027-2028 годы
A9: Остаток неиспользованных средств дорожного фонда по состоянию на 01.01.2026, тыс. рублей | E9: 25.7
A11: 1. Доходы
A13: № п/п | B13: Наименование доходов | C13: Сумма (тыс.руб.)
C15: 2026 год | D15: в том числе | G15: 2027 год | H15: в том числе | K15: 2028 год | L15: в том числе
D16: средства федерального бюджета | E16: средства краевого бюджета | F16: средства местного бюджета | H16: средства федерального бюджета | I16: средства краевого бюджета | J16: средства местного бюджета | L16: средства краевого бюджета | M16: средства местного бюджета
A17: 1. | B17: Доходы для определения объема дорожного фонда, всего | C17: =SUM(C19:C23) -> 348948.03 | D17: =SUM(D19:D23) -> 250527.88 | E17: =SUM(E19:E23) -> 36981.661 | F17: =SUM(F19:F23) -> 61438.496 | G17: =SUM(G19:G23) -> 59660.865 | H17: =SUM(H19:H23) -> 0 | I17: =SUM(I19:I23) -> 24154.7 | J17: =SUM(J19:J23) -> 35506.165 | ... M17: =SUM(M19:M23) -> 37096.9
B18: в том числе:
A19: 1.1. | B19: акцизы на автомобильный бензин, прямогонный бензин, дизельное топливо, моторные масла для дизельных и (или) карбюраторных (инжекторных) двигателей, производимые на территории Российской Федерации, подлежащие зачислению в местный бюджет | C19: =SUM(E19:F19) -> 27676.7 | D19: 0 | E19: 0 | F19: 27676.7 | G19: =SUM(I19:J19) -> 28240.9 | H19: 0 | I19: 0 | J19: 28240.9 | K19: =SUM(L19:M19) -> 28994.1 | L19: =I19-E19 -> 0 | M19: 28994.1
A20: 1.2. | B20: субсидии на проектирование, строительство (реконструкция), капитальный ремонт и ремонт автомобильных дорог общего пользования местного значения, находящихся на территории Пермского края | C20: =SUM(E20:F20) -> 24383 | D20: 0 | E20: 24383 | F20: 0 | G20: =SUM(I20:J20) -> 24154.7 | H20: 0 | I20: 24154.7 | J20: 0 | K20: =SUM(L20:M20) -> 24154.7 | L20: 24154.7 | M20: =J20-F20 -> 0
A21: 1.3. | B21: Субсидии бюджетам муниципальных округов на приведение в нормативное состояние автомобильных дорог и искусственных дорожных сооружений | C21: =SUM(D21:F21) -> 260966.54 | D21: 250527.88 | E21: 10438.661 | F21: 0 | G21: =SUM(H21:J21) -> 0 | H21: 0 | I21: 0 | J21: 0 | K21: =SUM(L21:M21) -> 0 | L21: 0 | M21: 0
A22: 1.4. | B22: Субсидии бюджетам муниципальных образований на реализацию мероприятия по направлению «Школьная остановка» регионального проекта «Комфортный край» | C22: =SUM(D22:F22) -> 2160 | E22: 2160 | G22: =SUM(H22:J22) -> 0 | K22: =SUM(L22:M22) -> 0
A23: 1.5. | B23: Дотации на выравнивание бюджетной обеспеченности | C23: =F23 -> 33761.796 | D23: 0 | E23: 0 | F23: =F31-F19-25.7 -> 33761.796 | G23: =SUM(I23:J23) -> 7265.2652 | H23: 0 | I23: 0 | J23: =J31-J19 -> 7265.2652 | K23: =SUM(L23:M23) -> 8102.8 | L23: =I23-E23 -> 0 | M23: =M31-M19 -> 8102.8
A25: 2.Расходы
A27: № п/п | B27: Наименование направлений расходов | C27: Сумма (тыс.руб.)
C29: 2026 год | D29: в том числе | G29: 2027 год | H29: в том числе | K29: 2028 год | L29: в том числе
D30: средства федерального бюджета | E30: средства краевого бюджета | F30: средства местного бюджета | H30: средства федерального бюджета | I30: средства краевого бюджета | J30: средства местного бюджета | L30: средства краевого бюджета | M30: средства местного бюджета
A31: 1. | B31: Муниципальная программа "Развитие транспортной системы Юсьвинского муниципального округа Пермского края", в том числе: | C31: =C32+C99 -> 348973.73 | D31: =D32+D99 -> 250527.88 | E31: =E32+E99 -> 36981.661 | F31: =F32+F99 -> 61464.196 | G31: =G32+G99 -> 59660.865 | H31: =H32+H99 -> 0 | I31: =I32+I99 -> 24154.7 | J31: =J32+J99 -> 35506.165 | ... M31: =M32+M99 -> 37096.9 | N31: =C31-C17 -> 25.7
A32: 1.1. | B32: Подпрограмма «Развитие и совершенствование автомобильных дорог Юсьвинского муниципального округа» | C32: =C33+C38+C88+C90+C35+C95 -> 345036.73 | D32: =D33+D38+D88+D90+D35 -> 250527.88 | E32: =E33+E38+E88+E90+E35 -> 34821.661 | F32: =F33+F38+F88+F90+F35+F95 -> 59687.196 | G32: =G33+G38+G88+G90+G35 -> 59660.865 | H32: =H33+H38+H88+H90+H35 -> 0 | I32: =I33+I38+I88+I90+I35 -> 24154.7 | J32: =J33+J38+J88+J90+J35 -> 35506.165 | K32: =K33+K38+K88+K90+K35 -> 61251.6 | L32: =L33+L38+L88+L90+L35 -> 24154.7 | M32: =M33+M38+M88+M90 -> 37096.9
A33: 1.1.1. | B33: Основное мероприятие "Разработка технической документации на автомобильные дороги и (или) искусственные дорожные сооружения" | C33: =C34 -> 1127.6 | D33: =D34 -> 0 | E33: =E34 -> 0 | F33: =F34 -> 1127.6 | G33: =G34 -> 0 | H33: =H34 -> 0 | I33: =I34 -> 0 | J33: =J34 -> 0 | ... M33: =M34 -> 574.3
B34: Мероприятие "Разработка технических паспортов на автомобильные дороги Юсьвинского муниципального округа Пермского края" | C34: =F34 -> 1127.6 | D34: 0 | E34: 0 | F34: =574.3+553.3 -> 1127.6 | G34: =J34 -> 0 | H34: 0 | I34: 0 | J34: 0 | K34: =M34 -> 574.3 | L34: 0 | M34: 574.3
A35: 1.1.2. | B35: Основное мероприятие "Проектно-изыскательские работы" | C35: =C36+C37 -> 4808 | D35: =D36 -> 0 | E35: =E36 -> 0 | F35: =F36+F37 -> 4808 | G35: =G36 -> 0 | H35: =H36 -> 0 | I35: =I36 -> 0 | J35: =J36 -> 0 | K35: =K36 -> 0 | L35: =L36 -> 0 | M35: =M36 -> 0
B36: Проектно-изыскательские работы по капитальному ремонту моста через р. Лысковка на км 0+677 автомобильной дороги "Подъезд к пристани Пожва" | C36: =F36 -> 4608 | D36: 0 | E36: 0 | F36: 4608 | G36: =H36+I36+J36 -> 0 | H36: 0 | I36: 0 | J36: 0 | K36: 0 | L36: 0 | M36: 0
B37: Предпроектное обследование объектов дорожной сети | C37: =F37 -> 200 | D37: 0 | E37: 0 | F37: 200 | G37: 0 | H37: 0 | I37: 0 | J37: 0 | K37: 0 | L37: 0 | M37: 0
A38: 1.1.3. | B38: Основное мероприятие «Ремонт муниципальных дорог и искусственных дорожных сооружений» | C38: =C39+C75+C58+C74 -> 42984.506 | D38: 0 | E38: =E39+E75+E58 -> 24383 | F38: =F39+F75+F58+F74 -> 18601.506 | G38: =G39+G75+G58 -> 26838.6 | H38: 0 | I38: =I39+I75+I58 -> 24154.7 | J38: =J39+J75+J58 -> 2683.9 | K38: =K39+K75+K58 -> 26838.6 | L38: =L39+L75+L58 -> 24154.7 | M38: =M39+M75+M58 -> 2683.9
B39: Мероприятие "Ремонт автомобильных дорог (софинансируемые из бюджета ПК)" | C39: =E39+F39 -> 27092.222 | D39: 0 | E39: =SUM(E40:E57) -> 24383 | F39: =SUM(F40:F57) -> 2709.2223 | G39: =SUM(I39+J39) -> 26838.6 | H39: 0 | I39: =SUM(I40:I57) -> 24154.7 | J39: =SUM(J40:J57) -> 2683.9 | K39: =SUM(L39+M39) -> 26838.6 | L39: =SUM(L40:L57) -> 24154.7 | M39: =SUM(M40:M57) -> 2683.9
B40: Ремонт автомобильных дорог (нераспределенные средства) | C40: 0 | D40: 0 | E40: 0 | F40: 0 | G40: =SUM(I40+J40) -> 26838.6 | H40: 0 | I40: 24154.7 | J40: 2683.9 | K40: =SUM(L40+M40) -> 26838.6 | L40: 24154.7 | M40: 2683.9
B41: Ремонт участка автомобильной дороги "Архангельское-Антипино" км 000+000- км 002+200 | C41: =D41+E41+F41 -> 6100.8235 | D41: 0 | E41: 5490.7411 | F41: 610.08235 | G41: 0 | H41: 0 | I41: 0 | J41: 0 | K41: 0 | L41: 0 | M41: 0
B42: Ремонт участка автомобильной дороги "Юсьва-Трифаново" км 002+800 км 005+800 | C42: =D42+E42+F42 -> 9346.1765 | D42: 0 | E42: 8411.5589 | F42: 934.61766 | G42: 0 | H42: 0 | I42: 0 | J42: 0 | K42: 0 | L42: 0 | M42: 0
B43: Ремонт автомобильной дороги по ул. Колхозная с. Аксеново | C43: =D43+E43+F43 -> 600 | D43: 0 | E43: 540 | F43: 60 | G43: 0 | H43: 0 | I43: 0 | J43: 0 | K43: 0 | L43: 0 | M43: 0
B44: Ремонт автомобильной дороги по ул. Пионерская (от ул. Комсомольская до ул. Студенческая) п. Тукачево | C44: =D44+E44+F44 -> 600 | D44: 0 | E44: 540 | F44: 60 | G44: 0 | H44: 0 | I44: 0 | J44: 0 | K44: 0 | L44: 0 | M44: 0
B45: Ремонт автомобильной дороги по ул. Пушкина (от дома №47 до ул. Мира) п. Майкор | C45: =D45+E45+F45 -> 600 | D45: 0 | E45: 540 | F45: 60 | G45: 0 | H45: 0 | I45: 0 | J45: 0 | K45: 0 | L45: 0 | M45: 0
B46: Ремонт автомобильной дороги по ул. Заречная (от дома №5 до дома №26)д. Обирино | C46: =D46+E46+F46 -> 600 | D46: 0 | E46: 540 | F46: 60 | G46: 0 | H46: 0 | I46: 0 | J46: 0 | K46: 0 | L46: 0 | M46: 0
B47: Ремонт автомобильной дороги по ул. Подгорная (от дома №1 до дома №12) | C47: =D47+E47+F47 -> 1086.694 | D47: 0 | E47: 978.0246 | F47: 108.66941 | G47: 0 | H47: 0 | I47: 0 | J47: 0 | K47: 0 | L47: 0 | M47: 0
B48: Ремонт автомобильной дороги по ул. Заречная (от ул. Мартыновская до дома №10 с отворотом к дому №4а) д. Ситково | C48: =D48+E48+F48 -> 1210.0572 | D48: 0 | E48: 1089.0515 | F48: 121.00573 | G48: 0 | H48: 0 | I48: 0 | J48: 0 | K48: 0 | L48: 0 | M48: 0
...

Sheet Приложение 5
C1: Приложение 5
C2: к решению Думы Юсьвинского
C3: муниципального округа Пермского края
C4: от 16.09.2026 № 207
A6: Источники финансирования дефицита бюджета Юсьвинского муниципального округа Пермского края на 2026 год и на плановый период 2027 и 2028 годов
B7: (тыс.руб.)
A8: Код классификации источников внутреннего финансирования дефицита | B8: Наименование кода классификации источников внутреннего финансирования дефицита | C8: 2026 год | D8: 2027 год | E8: 2028 год
A10: 01 00 00 00 00 0000 000 | B10: ИСТОЧНИКИ ВНУТРЕННЕГО ФИНАНСИРОВАНИЯ ДЕФИЦИТОВ БЮДЖЕТОВ | C10: =C11 -> 10968.264 | D10: =D11 -> 0 | E10: =E11 -> 0
A11: 01 05 00 00 00 0000 000 | B11: Изменение остатков средств на счетах по учету средств бюджетов | C11: =(C15+C16) -> 10968.264 | D11: =(D15+D16) -> 0 | E11: =(E15+E16) -> 0
A12: 01 05 00 00 00 0000 500 | B12: Увеличение остатков средств бюджетов | C12: =C13 -> 0 | D12: =D13 -> 0 | E12: =E13 -> 0
A13: 01 05 02 00 00 0000 500 | B13: Увеличение прочих остатков средств бюджетов | C13: =C14 -> 0 | D13: =D14 -> 0 | E13: =E14 -> 0
A14: 01 05 02 01 00 0000 510 | B14: Увеличение прочих остатков денежных средств бюджетов | C14: =C15 -> 0 | D14: =D15 -> 0 | E14: =E15 -> 0
A15: 01 05 02 01 14 0000 510 | B15: Увеличение прочих остатков денежных средств бюджетов муниципальных округов | C15: 0 | D15: 0 | E15: 0
A16: 01 05 00 00 00 0000 600 | B16: Уменьшение остатков средств бюджетов | C16: =C19 -> 10968.264 | D16: =D19 -> 0 | E16: =E19 -> 0
A17: 01 05 02 00 00 0000 600 | B17: Уменьшение прочих остатков средств бюджетов | C17: =C18 -> 10968.264 | D17: =D19 -> 0 | E17: =E19 -> 0
A18: 01 05 02 01 00 0000 610 | B18: Уменьшение прочих остатков денежных средств бюджетов | C18: =C19 -> 10968.264 | D18: =D19 -> 0 | E18: =E19 -> 0
A19: 01 05 02 01 14 0000 610 | B19: Уменьшение прочих остатков денежных средств бюджетов муниципальных округов | C19: ='приложение 1'!F600-1446517.59142 -> 10968.264 | D19: 0 | E19: 0
B20: Всего | C20: =C19 -> 10968.264 | D20: =D10 -> 0 | E20: =E10 -> 0
B25: дох | C25: 1446517.6 | D25: 1074723.9 | E25: 1068605.2
B26: расх | C26: ='приложение 1'!F600 -> 1457485.9 | D26: ='приложение 1'!I600 -> 1068842.7 | E26: ='приложение 1'!J600 -> 1030631.4
B27: деф | C27: =C25-C26 -> -10968.264
B28: УУР | D28: =D25-D26 -> 5881.1229 | E28: =E25-E26 -> 37973.868

Sheet свод
D1: 2026 | E1: 2027 | F1: 2028
A2: 02 1 10 00150 | C2: Оказание услуг дошкольного образования в рамках полномочий Юсьвинского муниципального округа Пермского края | D2: =-1009.4 -> -1009.4
A3: 02 2 10 00150 | C3: Оказание услуг в сфере общего образования в рамках полномочий Юсьвинского муниципального округа Пермского края | D3: -889.7
A4: 02 2 20 4Н010 | C4: Обеспечение бесплатного проезда обучающихся до места обучения и обратно | D4: 295.3
A5: 02 2 20 4Н020 | C5: Обеспечение бесплатным питанием обучающихся с ограниченными возможностями здоровья в образовательных учреждениях | D5: 132.2
A6: 02 6 10 4Н130 | C6: Проведение ремонтных работ в зданиях и помещениях учреждений, направленные на приведение их в соответствие нормативным требованиям, включая мероприятия, связанные с обеспечением доступной среды для маломобильных групп населения | D6: =231.5 -> 231.5 | G6: АПС и СОУЭ новая школа Доег-600, котел Крохалево 547,3 (в непрограммные) и крыша Майкор СОШ 231,5
A7: 02 6 10 4Н100 | C7: Приобретение и приведение в нормативное состояние автотранспорта для обеспечения бесплатного проезда обучающихся до места обучения и обратно | D7: =386.1+256.3 -> 642.4
A8: 05 0 20 4И050 | C8: Приобретение (выкуп) в муниципальную собственность объектов недвижимости | D8: -100
A9: 06 1 70 4К090 | C9: Приведение в нормативное состояние учреждений культуры и образовательных учреждений в сфере культуры | D9: 683.1
A10: 10 2 30 4М036 | C10: Организация зон санитарной охраны водозаборных скважин | D10: 69.4 | E10: 247.5 | G10: разработка проекта ЗСО и проведение экспертизы проекта ЗСО Доег
A11: 10 3 10 4М070 | C11: Ремонт (обустройство) источников водоснабжения и систем водоснабжения | D11: 1057.5
A12: 11 1 40 9Д031 | C12: Ремонт автомобильных дорог (несофинансируемые из бюджета ПК)
C13: Ремонт автомобильной дороги по ул.Новая (от ул.Пионерская до дома № 2а) с.Купрос | D13: 219.80194
C14: Восстановление дорожного полотна участка автомобильной дороги по ул.Северная (от ул.Чехова до ул.Вотинова) п.Майкор (от ул.Чехова до ул.Вотинова) | D14: 597
C15: Восстановление покрытия проезжей части участка автомобильной дороги "Бажино-Шедово" км 0+000 - км 0+805 | D15: 597
C16: Ремонт участка автомобильной дороги по ул. Школьная (от дома № 1 до дома № 2) с. Мелюхино | D16: -0.71779
A17: 11 1 60 L3720 | C17: Приведение в нормативное состояние автомобильных дорог | D17: -438.88
A18: 11 1 И8 54470 | C18: Приведение в нормативное состояние искусственных дорожных сооружений | E18: 306.63055
A19: 11 2 10 4Д051 | C19: Осуществление перевозок пассажиров и багажа автомобильным транспортом по муниципальным маршрутам на территории Юсьвинского муниципального округа Пермского края | D19: 668.2
A20: 13 0 10 4Ч080 | C20: Организация обустройства места массового отдыха населения на водных объектах на территории Юсьвинского муниципального округа Пермского края | D20: -301.3
A21: 13 0 20 4Ч040 | C21: Противопожарное водоснабжение Юсьвинского муниципального округа Пермского края | D21: 299
A22: 13 0 30 4Ч070 | C22: Обеспечение материальными резервами ПВР | D22: 2.3
A23: 92 0 00 00220 | C23: Обеспечение деятельности муниципального казенного учреждения «Единый сервисный центр» | D23: =68.2+158 -> 226.2 | E23: =659+185.3 -> 844.3 | G23: установка пожарной и охранной сигнализации в 2027, в 2026 - возм.расходов гсм 68,2+158,0 оптоволокно
A24: 92 0 00 00230 | C24: Исполнение решений судов, вступивших в законную силу, и оплата государственной пошлины | D24: 25 | G24: укус Шиловой
A25: 92 0 00 00221 | C25: Подготовка котельных к отопительному сезону (Универсал 97,5, Пожвинская СОШ 600,0 Крохалевская СОШ 547,3) | D25: =97.5+547.3+600 -> 1244.8
A26: 92 0 00 00223 | C26: Аренда топливозаправщика для хранения сжиженного газа | D26: -155
A27: ндс от продажи имущества | D27: 768.6
A28: насосы жкх (381,6) | C28: резервный фонд | D28: =792.8-410.6+16.3-95.6 -> 302.9 | G28: может, увеличить резервный в этом году для этого
A29: жкх на пожв.очистн | D29: 410.6
C30: охрана культура | D30: 160.2
C31: охрана имущество | D31: 133.5
C32: ликвидационная комиссия школа Тукачево | D32: 364.5
A33: ЖКХ на валку 4-х деревьев | D33: 120 | E33: не учтены
C34: Итого | D34: =SUM(D2:D32) -> 6236.0042 | E34: =SUM(E2:E24) -> 1398.4306
A36: Доходы | B36: дотации | C36: 1487.4
B37: возврат "КК" | C37: -1344.3913
B38: плат | C38: 68.2
B39: 113 | C39: 872.2
B40: продажа здания | C40: 4669.3
B41: штрафы | C41: 404.9
...
